BEGIN:VCALENDAR
VERSION:2.0
PRODID:-//Miami Jewish Abilities Alliance - ECPv6.15.19//NONSGML v1.0//EN
CALSCALE:GREGORIAN
METHOD:PUBLISH
X-ORIGINAL-URL:https://miami.jewishabilities.org
X-WR-CALDESC:Events for Miami Jewish Abilities Alliance
REFRESH-INTERVAL;VALUE=DURATION:PT1H
X-Robots-Tag:noindex
X-PUBLISHED-TTL:PT1H
BEGIN:VTIMEZONE
TZID:America/New_York
BEGIN:DAYLIGHT
TZOFFSETFROM:-0500
TZOFFSETTO:-0400
TZNAME:EDT
DTSTART:20200308T070000
END:DAYLIGHT
BEGIN:STANDARD
TZOFFSETFROM:-0400
TZOFFSETTO:-0500
TZNAME:EST
DTSTART:20201101T060000
END:STANDARD
BEGIN:DAYLIGHT
TZOFFSETFROM:-0500
TZOFFSETTO:-0400
TZNAME:EDT
DTSTART:20210314T070000
END:DAYLIGHT
BEGIN:STANDARD
TZOFFSETFROM:-0400
TZOFFSETTO:-0500
TZNAME:EST
DTSTART:20211107T060000
END:STANDARD
BEGIN:DAYLIGHT
TZOFFSETFROM:-0500
TZOFFSETTO:-0400
TZNAME:EDT
DTSTART:20220313T070000
END:DAYLIGHT
BEGIN:STANDARD
TZOFFSETFROM:-0400
TZOFFSETTO:-0500
TZNAME:EST
DTSTART:20221106T060000
END:STANDARD
END:VTIMEZONE
BEGIN:VEVENT
DTSTART;VALUE=DATE:20210429
DTEND;VALUE=DATE:20210506
DTSTAMP:20260423T153258
CREATED:20210429T191422Z
LAST-MODIFIED:20210429T191422Z
UID:12751-1619654400-1620259199@miami.jewishabilities.org
SUMMARY:ReelAbilities Film Festival Virtual and Free Access!
DESCRIPTION:ReelAbilites starts this April 29th !\nHere is the most accessible festival in the world highlighting the stories of People with Disabilities. ReelAbilities has an amazing week of films\, conversations and events.\n\nIf you have yet to register for the opening night drive-in\, please do so here:\nwww.eventbrite.com/e/148365189275/?discount=ReelabilitiesFriend\n\nIf you can’t join in person\, for free access to all of our virtual programs\, please use code:\n\nfriend2021\n\n\nPlease help us spread the word!\n\n\nhttps://reelabilities.org/newyork/
URL:https://miami.jewishabilities.org/event/reelabilities-film-festival-virtual-and-free-access/
LOCATION:online\, online
CATEGORIES:Community Events,Social and Recreational,Support Groups
END:VEVENT
BEGIN:VEVENT
DTSTART;TZID=America/New_York:20210512T173000
DTEND;TZID=America/New_York:20210512T193000
DTSTAMP:20260423T153258
CREATED:20210511T143127Z
LAST-MODIFIED:20210511T143127Z
UID:12762-1620840600-1620847800@miami.jewishabilities.org
SUMMARY:Social Skills Training with UM-NSU CARD
DESCRIPTION:Join The Daniel Jordan Fiddle Foundation Transition and Adult team for our Spring Social Skills Training Series. This training series is presented by PEERS certified trainers and will be an introduction to social skills. \n  \n 
URL:https://miami.jewishabilities.org/event/social-skills-training-with-um-nsu-card/
LOCATION:online\, online
CATEGORIES:Social and Recreational,Virtual
END:VEVENT
BEGIN:VEVENT
DTSTART;TZID=America/New_York:20210513T190000
DTEND;TZID=America/New_York:20210513T203000
DTSTAMP:20260423T153258
CREATED:20210420T140935Z
LAST-MODIFIED:20210420T140935Z
UID:12729-1620932400-1620937800@miami.jewishabilities.org
SUMMARY:Kesher’s 25 Year Chai Society Ad Journal Drive Through Event
DESCRIPTION:Please join us as we celebrate a quarter century of outstanding special education with a spectacular drive through extravaganza! Celebrate our amazing school and honorees. \nKesher’s Founder- Dr. Howard Chusid\nKesher’s First Board Chair- Dr. Alan Rauzin\nMembers of Kesher’s First Board of Director’s and Inaugural Class\nAND\nKesher’s First Employee- on the occasion of his 50th Birthday\nRabbi Ezra Levy\, ED. D.
URL:https://miami.jewishabilities.org/event/keshers-25-year-chai-society-ad-journal-drive-through-event/
LOCATION:Beth Torah Benny Rok Campus\, 20350 NE 26th Ave\,\, Miami\, FL\, 33180\, United States
CATEGORIES:Community Events,Other,Social and Recreational
ATTACH;FMTTYPE=image/jpeg:https://miami.jewishabilities.org/wp-content/uploads/2021/04/Kesher-silver-anniv-save-the-date-5.13-FINAL.jpg
ORGANIZER;CN="Ilene Weinkle":MAILTO:iweinkle@kesherld.org
END:VEVENT
BEGIN:VEVENT
DTSTART;TZID=America/New_York:20210518T183000
DTEND;TZID=America/New_York:20210518T193000
DTSTAMP:20260423T153258
CREATED:20210408T185146Z
LAST-MODIFIED:20210408T185146Z
UID:12709-1621362600-1621366200@miami.jewishabilities.org
SUMMARY:Transitional Parent Support Group
DESCRIPTION:Join us for our virtual Transitional Parent Support Groups. \nEvery other Tuesday @ 6:30 PM. \nJoin us live through ZOOM Meeting ID 925 6107 8938 Transitional Parent Support Group Providing child enrichment\, resources\, and respite care for children with developmental disabilities Children’s Ability Center \nEvery other Tuesday Password: 700230 \nPLEASE CONTACT LINDA SACHS PRIOR TO ATTENDING  \n Linda Sachs\, L.C.S.W. 954-315-8664 linda@jafco.org
URL:https://miami.jewishabilities.org/event/transitional-parent-support-group-2/
LOCATION:FL
CATEGORIES:Social and Recreational,Virtual
END:VEVENT
END:VCALENDAR