BEGIN:VCALENDAR
VERSION:2.0
PRODID:-//Miami Jewish Abilities Alliance - ECPv6.15.19//NONSGML v1.0//EN
CALSCALE:GREGORIAN
METHOD:PUBLISH
X-ORIGINAL-URL:https://miami.jewishabilities.org
X-WR-CALDESC:Events for Miami Jewish Abilities Alliance
REFRESH-INTERVAL;VALUE=DURATION:PT1H
X-Robots-Tag:noindex
X-PUBLISHED-TTL:PT1H
BEGIN:VTIMEZONE
TZID:America/New_York
BEGIN:DAYLIGHT
TZOFFSETFROM:-0500
TZOFFSETTO:-0400
TZNAME:EDT
DTSTART:20210314T070000
END:DAYLIGHT
BEGIN:STANDARD
TZOFFSETFROM:-0400
TZOFFSETTO:-0500
TZNAME:EST
DTSTART:20211107T060000
END:STANDARD
BEGIN:DAYLIGHT
TZOFFSETFROM:-0500
TZOFFSETTO:-0400
TZNAME:EDT
DTSTART:20220313T070000
END:DAYLIGHT
BEGIN:STANDARD
TZOFFSETFROM:-0400
TZOFFSETTO:-0500
TZNAME:EST
DTSTART:20221106T060000
END:STANDARD
BEGIN:DAYLIGHT
TZOFFSETFROM:-0500
TZOFFSETTO:-0400
TZNAME:EDT
DTSTART:20230312T070000
END:DAYLIGHT
BEGIN:STANDARD
TZOFFSETFROM:-0400
TZOFFSETTO:-0500
TZNAME:EST
DTSTART:20231105T060000
END:STANDARD
END:VTIMEZONE
BEGIN:VEVENT
DTSTART;TZID=America/New_York:20220208T183000
DTEND;TZID=America/New_York:20220208T193000
DTSTAMP:20260423T183932
CREATED:20220207T195151Z
LAST-MODIFIED:20220207T195151Z
UID:13212-1644345000-1644348600@miami.jewishabilities.org
SUMMARY:Special Needs Parent/Caregiver Support Group for Transition issues\, JAFCO & JFS
DESCRIPTION:TRANSITION RESIDENTIAL SUPPORT GROUP TEENS 2nd Tuesday of month \n  \nSPECIAL NEEDS PARENT\nCAREGIVER\nSUPPORT GROUP \nSupport groups available for parents\, caregivers of people with special needs in transition\, teens\, adults and those in group homes. Join us and establish new connections\, friendships and learn skills to help in this era of transition. \nFOR MORE INFORMATION and to PRE REGISTER\, CONTACT: \nLinda Sachs\, LCSW Community Outreach Coordinator and Parent Support Group Specialist JAFCO 954-315-8664 | linda@jafco.org \nor \nTzippi Rosen at the South Palm Beach JAA at:  tzippir@ralesjfs.org \n  \n 
URL:https://miami.jewishabilities.org/event/special-needs-parent-caregiver-support-group-for-transition-issues-jafco-jfs/
LOCATION:online\, online
CATEGORIES:Support Groups,Virtual
ORGANIZER;CN="JAFCO":MAILTO:linda@jafco.org
END:VEVENT
END:VCALENDAR